BEGIN:VCALENDAR
VERSION:2.0
PRODID:-//AudioTheme 3.0.2
BEGIN:VEVENT
UID:urn:uuid:598ef85b-7463-48bf-905f-a3ea493d65a7
URL:https://www.himandhertx.com/shows/3-day-harmonica-workshop-at-the-kerrville-folk-festival/
DTSTART;TZID=GMT:20250602T000000
SUMMARY:3-day Harmonica Workshop at the Kerrville Folk Festival
DESCRIPTION:Michael will be teaching at the Harmonica Workshop at the Kerrville Folk Festival\, June 2-3-4
LOCATION:Kerrville Folk Festival\, Quiet Valley Ranch\, Route 16\, 9 miles south of Kerrville\, Texas\, United States
END:VEVENT
END:VCALENDAR
