BEGIN:VCALENDAR
VERSION:2.0
PRODID:-//AudioTheme 3.0.2
BEGIN:VEVENT
UID:urn:uuid:cac2751a-7ed5-494b-abb9-6fccaf5656e9
URL:https://www.himandhertx.com/shows/acoustic-blues-with-michael-him-and-songwriter-the-real-patrick-green-at-the-club-at-barons-creekside/
DTSTART;TZID=GMT:20241109T003000
SUMMARY:Acoustic Blues with Michael (Him) and songwriter, the “Real” Patrick Green, at The CLUB at Baron’s CreekSide
DESCRIPTION:Michael & Patrick return to The CLUB at Baron's Creekside\, Fredericksburg\, TX. Reservations recommended most evenings.
LOCATION:The CLUB at Baron's CreekSide\, The CLUB at Barons CreekSide\, 316 Goehmann Ln\, Fredericksburg\, Texas\, USA\, 78624
END:VEVENT
END:VCALENDAR
