BEGIN:VCALENDAR
VERSION:2.0
PRODID:-//AudioTheme 3.0.2
BEGIN:VEVENT
UID:urn:uuid:4e70ca1a-608b-45b4-b566-eca12e69c9b0
URL:https://www.himandhertx.com/shows/eeyores-birthday-party-sound-engineer-crew/
DTSTART;TZID=GMT:20230429T000000
SUMMARY:Eeyore's Birthday Party - Sound Engineer & Crew
DESCRIPTION:Him & Her will be volunteering on the Main Music Stage for Eeyore's Birthday Party\, providing sound engineering and stage management. Come and say Hello to us. Joined by Heather Hampton\, BobTom Reed\, Adams Kirkpatrick and others to make the bands sound GREAT\, and so the audience down below the bank has a wonderfully gloomy time for Eeyore.
LOCATION:Eeyore's Birthday Party\, Pease Park 100 Kingsbury St\, Austin\, TX\, United States\, 78671
END:VEVENT
END:VCALENDAR
