BEGIN:VCALENDAR
VERSION:2.0
PRODID:-//AudioTheme 3.0.2
BEGIN:VEVENT
UID:urn:uuid:0625f9ba-b667-4050-91c3-c647a6a2d8bf
URL:https://www.himandhertx.com/shows/fredericksburg-for-spring-break/
DTSTART;TZID=GMT:20250315T000000
SUMMARY:Fredericksburg for Spring Break!
DESCRIPTION:The Him & Her Trio returns to play at The CLUB for Spring Break! Please join us!
LOCATION:The CLUB at Baron's CreekSide\, The CLUB at Barons CreekSide\, 316 Goehmann Ln\, Fredericksburg\, Texas\, USA\, 78624
END:VEVENT
END:VCALENDAR
