BEGIN:VCALENDAR
VERSION:2.0
PRODID:-//AudioTheme 3.0.2
BEGIN:VEVENT
UID:urn:uuid:ce172da3-d29c-411b-a095-6881ecac084e
URL:https://www.himandhertx.com/shows/gig-1136/
DTSTART;TZID=GMT:20200216T010000
SUMMARY:Him & Her at Tenuta Bianco, Blanco TX
DESCRIPTION:Him & Her Trio at Tenuta Bianco\, a Blanco Wine Bar\, joined by Jonathan Lee on lead guitar.
LOCATION:Tenuta Bianco\, 312 Pecan St\, Blanco\, Texas\, United States\, 78606
END:VEVENT
END:VCALENDAR
