BEGIN:VCALENDAR
VERSION:2.0
PRODID:-//AudioTheme 3.0.2
BEGIN:VEVENT
UID:urn:uuid:baaf538f-1b79-42ca-ad8e-1ad30adf8001
URL:https://www.himandhertx.com/shows/gig-1205/
DTSTART;TZID=GMT:20210615T180000
SUMMARY:Him & Her Trio LIVE on YouTube
DESCRIPTION:Him & Her Trio Live on YouTube  An Instrumental Interlude  Music We've Been Playing   
LOCATION:YouTube LIVE\, 204 Walnut Springs Ln\, Stonewall\, Texas\, 78671-4286
END:VEVENT
END:VCALENDAR
