BEGIN:VCALENDAR
VERSION:2.0
PRODID:-//AudioTheme 3.0.2
BEGIN:VEVENT
UID:urn:uuid:5ecdd87a-d00f-4d7f-8d07-6d4d2b772f56
URL:https://www.himandhertx.com/shows/gig-1285/
DTSTART;TZID=GMT:20221120T003000
SUMMARY:Him & Her Band at The CLUB at Baron's CreekSide
DESCRIPTION:Him & Her Band returns to The CLUB at Baron's Creekside\, Fredericksburg\, TX. Reservations recommended most evenings.
LOCATION:The CLUB at Baron's CreekSide\, The CLUB at Barons CreekSide\, 316 Goehmann Ln\, Fredericksburg\, Texas\, USA\, 78624
END:VEVENT
END:VCALENDAR
