BEGIN:VCALENDAR
VERSION:2.0
PRODID:-//AudioTheme 3.0.2
BEGIN:VEVENT
UID:urn:uuid:b179704e-ba36-4ae8-907c-bbead4907e4c
URL:https://www.himandhertx.com/shows/gig-16492/
DTSTART;TZID=GMT:20240622T210000
SUMMARY:The Dakota East Side Ice House
DESCRIPTION:Him & Her is honored to be part of a celebration with the Harmonica Organization of Texas in San Antonio - the Alamo HOOT. Music starts at 2pm at the The Dakota East Side Ice House with a social hour and harmonica jam\, including the Alamo HOOT Band\, followed by two main acts.
LOCATION:The Dakota East Side Ice House\, 433 S Hackberry St\, San Antonio\, TX
END:VEVENT
END:VCALENDAR
