BEGIN:VCALENDAR
VERSION:2.0
PRODID:-//AudioTheme 3.0.2
BEGIN:VEVENT
UID:urn:uuid:07bcbbd3-475c-461b-8944-5156e7366a1f
URL:https://www.himandhertx.com/shows/gig-16524/
DTSTART;TZID=GMT:20250510T000000
SUMMARY:Him & Her at The Rolling Oaks Festival
DESCRIPTION:Him & Her Trio are pleased to be returning to The Rolling Oaks Festival for 2025!
LOCATION:Rolling Oaks Clubhouse\, 1051 Lonesome Trail\, Driftwood\, Texas
END:VEVENT
END:VCALENDAR
