BEGIN:VCALENDAR
VERSION:2.0
PRODID:-//AudioTheme 3.0.2
BEGIN:VEVENT
UID:urn:uuid:ccfa31ac-096e-4407-9daf-a28ca26c09d5
URL:https://www.himandhertx.com/shows/gig-8919/
DTSTART;TZID=GMT:20240622T000000
SUMMARY:Him & Her Band mid-summer at the CLUB
DESCRIPTION:The Him & Her Band return to play a mid-summer gig on the patio at The CLUB!
LOCATION:The CLUB at Baron's CreekSide\, The CLUB at Barons CreekSide\, 316 Goehmann Ln\, Fredericksburg\, Texas\, USA\, 78624
END:VEVENT
END:VCALENDAR
