BEGIN:VCALENDAR
VERSION:2.0
PRODID:-//AudioTheme 3.0.2
BEGIN:VEVENT
UID:urn:uuid:ab0056fb-32a5-4dd6-b011-6b57b58490ba
URL:https://www.himandhertx.com/shows/gigs-him-her-harmonica-workshop-at-texas-heritage-music-day/
DTSTART;TZID=GMT:20220916T133000
SUMMARY:Him & Her harmonica workshop at Texas Heritage Days
DESCRIPTION:Him & Her return to Schreiner University in Kerrville to teach youth how to play a tune on a harmonica.  A Hohner harmonica will be given to every young person who participates.
LOCATION:Schreiner University\, 2100 Memorial Blvd\, Kerrville\, Texas\, USA\, 78028
END:VEVENT
END:VCALENDAR
