BEGIN:VCALENDAR
VERSION:2.0
PRODID:-//AudioTheme 3.0.2
BEGIN:VEVENT
UID:urn:uuid:d2f3677f-1066-42af-9ef4-bf2b01ef5637
URL:https://www.himandhertx.com/shows/him-her-album-release-party-at-the-saxon-pub/
DTSTART;TZID=GMT:20180630T000000
SUMMARY:Him & Her Album Release party at The Saxon Pub
LOCATION:The Saxon Pub\, 1320 S Lamar Blvd\, Austin\, Texas\, United States\, 78704
END:VEVENT
END:VCALENDAR
