BEGIN:VCALENDAR
VERSION:2.0
PRODID:-//AudioTheme 3.0.2
BEGIN:VEVENT
UID:urn:uuid:5b56c894-2c15-4b7e-a307-d0d821f1ffc2
URL:https://www.himandhertx.com/shows/him-her-annual-christmas-singalong-at-the-redbud-cafe/
DTSTART;TZID=GMT:20171223T000000
SUMMARY:Him & Her annual Christmas singalong at the Redbud Cafe
LOCATION:Redbud Café\, 410 4th Street\, Blanco\, Texas\, United States\, 78606
END:VEVENT
END:VCALENDAR
