BEGIN:VCALENDAR
VERSION:2.0
PRODID:-//AudioTheme 3.0.2
BEGIN:VEVENT
UID:urn:uuid:ec7b54d2-62b1-4781-8f38-a792a27a3dbe
URL:https://www.himandhertx.com/shows/him-her-at-das-peach-haus-3/
DTSTART;TZID=GMT:20230319T170000
SUMMARY:Him & Her Trio at Das Peach Haus
DESCRIPTION:The Him & Her Trio will perform at Das Peach Haus in Fredericksburg. 
LOCATION:Das Peach Haus\, 1406 S US Hwy 87\, Fredericksburg\, TX\, USA\, 78624
END:VEVENT
END:VCALENDAR
