BEGIN:VCALENDAR
VERSION:2.0
PRODID:-//AudioTheme 3.0.2
BEGIN:VEVENT
UID:urn:uuid:cdc07903-5847-4cb4-bafe-84a2027c61f5
URL:https://www.himandhertx.com/shows/him-her-at-farmtastic-3-austin-tx/
DTSTART;TZID=GMT:20181231T180000
SUMMARY:Him & Her at FarmTastic 3, Austin TX
DESCRIPTION:FarmTastic 3.    OUTDOORS. Donation expected\, Convenient parking. Music noon to 8pm. BYO everything!
LOCATION:Farm Time Festival\, 2202 Riverside Farms Road\, Austin\, TX\, USA\, 78741
END:VEVENT
END:VCALENDAR
