BEGIN:VCALENDAR
VERSION:2.0
PRODID:-//AudioTheme 3.0.2
BEGIN:VEVENT
UID:urn:uuid:336b6ec2-75d7-4c9d-87ad-00877734a615
URL:https://www.himandhertx.com/shows/him-her-at-fiesta-290-winery/
DTSTART;TZID=GMT:20170409T000000
SUMMARY:Him & Her at Fiesta 290 Winery
LOCATION:Fiesta 290 Winery\, 6260 E US Highway 290\, Fredericksburg\, Texas\, 78624
END:VEVENT
END:VCALENDAR
