BEGIN:VCALENDAR
VERSION:2.0
PRODID:-//AudioTheme 3.0.2
BEGIN:VEVENT
UID:urn:uuid:a98a6cab-0fd8-4412-b1e2-a22b3a49222b
URL:https://www.himandhertx.com/shows/him-her-at-texas-heritage-music-day/
DTSTART;TZID=GMT:20190927T140000
SUMMARY:Him & Her at Texas Heritage Music Day
DESCRIPTION:Him & Her will join over 50 performers gathering on the Schreiner grounds to present "Another way of Learning: Using Stories and Songs" 
LOCATION:Schreiner University\, 2100 Memorial Blvd\, Kerrville\, Texas\, USA\, 78028
END:VEVENT
END:VCALENDAR
