BEGIN:VCALENDAR
VERSION:2.0
PRODID:-//AudioTheme 3.0.2
BEGIN:VEVENT
UID:urn:uuid:0c6b0bee-b44d-49f1-b6a0-4f83b591b86b
URL:https://www.himandhertx.com/shows/him-her-at-the-54th-annual-spah-convention-august-15-19/
DTSTART;TZID=GMT:20170815T200000
SUMMARY:Him & Her at the 54th Annual SPAH Convention - August 15-19
LOCATION:SPAH Annual Convention\, Sheraton Westport Chalet\, St Louis\, Missouri
END:VEVENT
END:VCALENDAR
