BEGIN:VCALENDAR
VERSION:2.0
PRODID:-//AudioTheme 3.0.2
BEGIN:VEVENT
UID:urn:uuid:9b34bb8c-9e2c-4f44-9d1c-c62bba5ed379
URL:https://www.himandhertx.com/shows/him-her-at-the-club-at-barons-creekside-6/
DTSTART;TZID=GMT:20230204T003000
SUMMARY:Him & Her at The CLUB at Baron's CreekSide
DESCRIPTION:Him & Her Band returns to The CLUB at Baron's Creekside\, Fredericksburg\, TX. Reservations recommended most evenings.
LOCATION:The CLUB at Baron's CreekSide\, The CLUB at Barons CreekSide\, 316 Goehmann Ln\, Fredericksburg\, Texas\, USA\, 78624
END:VEVENT
END:VCALENDAR
