BEGIN:VCALENDAR
VERSION:2.0
PRODID:-//AudioTheme 3.0.2
BEGIN:VEVENT
UID:urn:uuid:d8ff9449-b24a-4ba0-95e4-f28de76fe5fe
URL:https://www.himandhertx.com/shows/him-her-at-the-pint-plow-kerrville-texas/
DTSTART;TZID=GMT:20240713T230000
SUMMARY:Him & Her Band return to the Pint & Plow, Kerrville, Texas
DESCRIPTION:Him & Her returns to Kerrville. Combine the blend of Him & Her music\, excellent food & locally-brewed beer\, and you have a wonderful spring evening in town.
LOCATION:The Pint & Plow\, 332 Clay St\, Kerrville\, Texas\, 78028
END:VEVENT
END:VCALENDAR
