BEGIN:VCALENDAR
VERSION:2.0
PRODID:-//AudioTheme 3.0.2
BEGIN:VEVENT
UID:urn:uuid:5616c776-4fdd-445a-a526-3cc8177b6eb7
URL:https://www.himandhertx.com/shows/him-her-at-the-redbud-cafe/
DTSTART;TZID=GMT:20170415T000000
SUMMARY:Him & Her at the Redbud Cafe
LOCATION:Redbud Café\, 410 4th Street\, Blanco\, Texas\, United States\, 78606
END:VEVENT
END:VCALENDAR
