BEGIN:VCALENDAR
VERSION:2.0
PRODID:-//AudioTheme 3.0.2
BEGIN:VEVENT
UID:urn:uuid:f29b86b9-3846-4f7f-bf9d-384ce681ae80
URL:https://www.himandhertx.com/shows/him-her-at-the-rolling-oaks-festival/
DTSTART;TZID=GMT:20190511T000000
SUMMARY:Him & Her at the Rolling Oaks Festival
DESCRIPTION:Him & Her return to one of the best free festivals in the Texas Hill Country. 
LOCATION:Rolling Oaks Clubhouse\, 1051 Lonesome Trail\, Driftwood\, Texas
END:VEVENT
END:VCALENDAR
