BEGIN:VCALENDAR
VERSION:2.0
PRODID:-//AudioTheme 3.0.2
BEGIN:VEVENT
UID:urn:uuid:a1523cf6-eff2-4573-8f1e-2a425f04dc7b
URL:https://www.himandhertx.com/shows/him-her-at-the-texas-wine-collective-fredericksburg-tx/
DTSTART;TZID=GMT:20230205T180000
SUMMARY:Him & Her at the Texas Wine Collective, Fredericksburg TX
DESCRIPTION:The Him & Her Trio is pleased to play its inaugural performance from noon to 4pm at the Texas Wine Collective near Fredericksburg. TWC is one of their favorite wine venues in the area!
LOCATION:Texas Wine Collective\, 10354 E US-290\, Fredericksburg\, TX\, United States\, 78624
END:VEVENT
END:VCALENDAR
