BEGIN:VCALENDAR
VERSION:2.0
PRODID:-//AudioTheme 3.0.2
BEGIN:VEVENT
UID:urn:uuid:fd03d259-140f-4dba-8ac8-893cdc1ac102
URL:https://www.himandhertx.com/shows/him-her-at-the-texas-wine-collective/
DTSTART;TZID=GMT:20230624T180000
SUMMARY:Cancelled - Him & Her Band at the Texas Wine Collective
DESCRIPTION:Cancelled with apologies due to double booking at venue. 
LOCATION:Texas Wine Collective\, 10354 E US-290\, Fredericksburg\, TX\, United States\, 78624
END:VEVENT
END:VCALENDAR
