BEGIN:VCALENDAR
VERSION:2.0
PRODID:-//AudioTheme 3.0.2
BEGIN:VEVENT
UID:urn:uuid:d8043f66-c772-431d-ba04-174e955c972d
URL:https://www.himandhertx.com/shows/him-her-at-the-the-club-at-barons-creekside/
DTSTART;TZID=GMT:20250420T000000
SUMMARY:Him & Her at the The CLUB at Baron's CreekSide
DESCRIPTION:Him & Her Trio at The CLUB for Easter Weekend
LOCATION:The CLUB at Baron's CreekSide\, The CLUB at Barons CreekSide\, 316 Goehmann Ln\, Fredericksburg\, Texas\, USA\, 78624
END:VEVENT
END:VCALENDAR
