BEGIN:VCALENDAR
VERSION:2.0
PRODID:-//AudioTheme 3.0.2
BEGIN:VEVENT
UID:urn:uuid:1b0602a9-719d-4f2a-839f-ab6788a691d1
URL:https://www.himandhertx.com/shows/him-her-at-william-chris-vineyard-hye-tx-2/
DTSTART;TZID=GMT:20170507T000000
SUMMARY:Him & Her at William Chris Vineyard, Hye TX
LOCATION:William Chris Vineyards\, 10352 U.S. Highway 290\, Hye\, Texas\, United States\, 78635
END:VEVENT
END:VCALENDAR
