BEGIN:VCALENDAR
VERSION:2.0
PRODID:-//AudioTheme 3.0.2
BEGIN:VEVENT
UID:urn:uuid:e8986632-d433-4e4b-998d-836e28a95f29
URL:https://www.himandhertx.com/shows/him-her-band-at-gillespie-county-friends-of-night-sky-star-party/
DTSTART;TZID=GMT:20230414T000000
SUMMARY:Him & Her Band at Gillespie County Friends of Night Sky - Star Party
DESCRIPTION:Check out this amazing organization\, the Gillespie County Friends of the Night Sky (501c3)\, helping us protect the local night skies for viewing\, and for the rhythm of natural life.  Star gazing with astronomers to guide you\, food trucks\, and wine. 
LOCATION:Ab Astris\, 320 Klein Road\, Stonewall\, Texas\, 78671
END:VEVENT
END:VCALENDAR
