BEGIN:VCALENDAR
VERSION:2.0
PRODID:-//AudioTheme 3.0.2
BEGIN:VEVENT
UID:urn:uuid:e9bfb138-8323-471d-be89-46ad0e26fc56
URL:https://www.himandhertx.com/shows/him-her-band-at-green-mesquite/
DTSTART;TZID=GMT:20170617T000000
SUMMARY:Him & Her Band at Green Mesquite
LOCATION:Green Mesquite BBQ\, 1400 Barton Springs Rd\, Austin\, Texas\, USA\, 78704
END:VEVENT
END:VCALENDAR
