BEGIN:VCALENDAR
VERSION:2.0
PRODID:-//AudioTheme 3.0.2
BEGIN:VEVENT
UID:urn:uuid:3ae8101a-4461-4ee1-ace4-7cec4af1997c
URL:https://www.himandhertx.com/shows/him-her-band-at-rolling-oaks-festival/
DTSTART;TZID=GMT:20240511T000000
SUMMARY:Him & Her Band at Rolling Oaks Festival
DESCRIPTION:The Him & Her Band have been invited back to the Rolling Oaks Festival for another year. Stay tuned for details on this wonderful little weekend festival near Driftwood\, TX.
LOCATION:Rolling Oaks Clubhouse\, 1051 Lonesome Trail\, Driftwood\, Texas
END:VEVENT
END:VCALENDAR
