BEGIN:VCALENDAR
VERSION:2.0
PRODID:-//AudioTheme 3.0.2
BEGIN:VEVENT
UID:urn:uuid:a2094b17-2cab-4ba5-a6b9-6dd7114fc895
URL:https://www.himandhertx.com/shows/him-her-band-at-the-club-at-barons-creekside-4/
DTSTART;TZID=GMT:20230916T000000
SUMMARY:Him & Her Band at The CLUB at Baron's CreekSide
DESCRIPTION:Him & Her Band returns to The CLUB at Baron's Creekside\, Fredericksburg\, TX. Reservations recommended most evenings.
LOCATION:The CLUB at Baron's CreekSide\, The CLUB at Barons CreekSide\, 316 Goehmann Ln\, Fredericksburg\, Texas\, USA\, 78624
END:VEVENT
END:VCALENDAR
