BEGIN:VCALENDAR
VERSION:2.0
PRODID:-//AudioTheme 3.0.2
BEGIN:VEVENT
UID:urn:uuid:36178e73-dd4b-4950-98ec-1087902974c5
URL:https://www.himandhertx.com/shows/him-her-band-at-the-club-at-barons-creekside/
DTSTART;TZID=GMT:20221002T000000
SUMMARY:Him & Her Band - at The CLUB at Baron's CreekSide
DESCRIPTION:Him & Her Band returns to The CLUB at Baron's Creekside\, Fredericksburg\, TX. Reservations recommended most evenings.
LOCATION:The CLUB at Baron's CreekSide\, The CLUB at Barons CreekSide\, 316 Goehmann Ln\, Fredericksburg\, Texas\, USA\, 78624
END:VEVENT
END:VCALENDAR
