BEGIN:VCALENDAR
VERSION:2.0
PRODID:-//AudioTheme 3.0.2
BEGIN:VEVENT
UID:urn:uuid:019f8868-c97f-4582-873a-efa30b1e8e08
URL:https://www.himandhertx.com/shows/him-her-band-at-the-historic-spechts-store/
DTSTART;TZID=GMT:20170923T000000
SUMMARY:Him & Her Band at the Historic Specht's Store
LOCATION:Specht's Store\, 112 SPECHT RD\, SAN ANTONIO\, Texas\, 78260
END:VEVENT
END:VCALENDAR
