BEGIN:VCALENDAR
VERSION:2.0
PRODID:-//AudioTheme 3.0.2
BEGIN:VEVENT
UID:urn:uuid:3c7a6535-58ff-45b8-a51d-0306a4aa4bef
URL:https://www.himandhertx.com/shows/him-her-band-at-the-redbud-cafe-blanco/
DTSTART;TZID=GMT:20240112T000000
SUMMARY:Him & Her Band at The Redbud Café, Blanco
DESCRIPTION:Him & Her are pleased to return to one of their favorite venues in Blanco - The Redbud Café. Please join the Him & Her Band this Friday at the Redbud\, renowned for its excellent food\, top class selection of local beer and wine\, and friendly staff.
LOCATION:Redbud Café\, 410 4th Street\, Blanco\, Texas\, United States\, 78606
END:VEVENT
END:VCALENDAR
