BEGIN:VCALENDAR
VERSION:2.0
PRODID:-//AudioTheme 3.0.2
BEGIN:VEVENT
UID:urn:uuid:9d8bca4e-423e-4370-b4d7-d895a840b4be
URL:https://www.himandhertx.com/shows/him-her-band-farm-time-festival-austin-tx/
DTSTART;TZID=GMT:20240309T230000
SUMMARY:Him & Her Band - Farm Time Festival, Austin TX!
DESCRIPTION:The Him & Her Band are pleased to be invited back to the lovely Farm Time Festival in Austin.
LOCATION:Farm Time Festival\, 2202 Riverside Farms Road\, Austin\, TX\, USA\, 78741
END:VEVENT
END:VCALENDAR
