BEGIN:VCALENDAR
VERSION:2.0
PRODID:-//AudioTheme 3.0.2
BEGIN:VEVENT
UID:urn:uuid:462a6257-ba81-458e-91de-c2fda418e2be
URL:https://www.himandhertx.com/shows/him-her-band-leap-day-gig-at-the-saxon-pub/
DTSTART;TZID=GMT:20200229T000000
SUMMARY:Him & Her Band - Leap Day gig at The Saxon Pub
DESCRIPTION:Him & Her Band playing The Saxon Pub with lead guitar\, backup vocals\, maybe more!
LOCATION:The Saxon Pub\, 1320 S Lamar Blvd\, Austin\, Texas\, United States\, 78704
END:VEVENT
END:VCALENDAR
