BEGIN:VCALENDAR
VERSION:2.0
PRODID:-//AudioTheme 3.0.2
BEGIN:VEVENT
UID:urn:uuid:1241029a-554c-4ccf-920a-1f75fac3ba0f
URL:https://www.himandhertx.com/shows/him-her-band-local-private-fundraiser/
DTSTART;TZID=GMT:20221020T223000
SUMMARY:Him & Her Band - Local Private Fundraiser
DESCRIPTION:The Him & Her Band will be performing at a private fundraiser for the community. 
LOCATION:Private Venue\, Fredericksburg\, TX\, United States
END:VEVENT
END:VCALENDAR
