BEGIN:VCALENDAR
VERSION:2.0
PRODID:-//AudioTheme 3.0.2
BEGIN:VEVENT
UID:urn:uuid:e5ab3d24-170f-44fb-bf6a-138f00611035
URL:https://www.himandhertx.com/shows/him-her-band-private-event-july-4/
DTSTART;TZID=GMT:20230704T170000
SUMMARY:Him & Her Band - Private Event July 4
DESCRIPTION:The Him & Her Band is proud to be helping friends and neighbors celebrate the July 4 festivities. 
LOCATION:Private Venue\, Fredericksburg\, TX\, United States
END:VEVENT
END:VCALENDAR
