BEGIN:VCALENDAR
VERSION:2.0
PRODID:-//AudioTheme 3.0.2
BEGIN:VEVENT
UID:urn:uuid:d3b7f4ba-5203-489f-9a7c-2662f98889c8
URL:https://www.himandhertx.com/shows/him-her-celebrating-thanksgiving/
DTSTART;TZID=GMT:20241130T003000
SUMMARY:Him & Her - celebrating Thanksgiving!
DESCRIPTION:The Him & Her Trio returns to play a Thanksgiving gig at The CLUB!
LOCATION:The CLUB at Baron's CreekSide\, The CLUB at Barons CreekSide\, 316 Goehmann Ln\, Fredericksburg\, Texas\, USA\, 78624
END:VEVENT
END:VCALENDAR
