BEGIN:VCALENDAR
VERSION:2.0
PRODID:-//AudioTheme 3.0.2
BEGIN:VEVENT
UID:urn:uuid:ca0749aa-72e9-4dce-938d-f2ae982ddbbd
URL:https://www.himandhertx.com/shows/him-her-christmas-sing-along-at-the-redbud-cafe/
DTSTART;TZID=GMT:20181222T000000
SUMMARY:Him & Her Christmas Sing-along at the Redbud Café
LOCATION:Redbud Café\, 410 4th Street\, Blanco\, Texas\, United States\, 78606
END:VEVENT
END:VCALENDAR
