BEGIN:VCALENDAR
VERSION:2.0
PRODID:-//AudioTheme 3.0.2
BEGIN:VEVENT
UID:urn:uuid:69216eda-db32-461f-9b08-3723011522b1
URL:https://www.himandhertx.com/shows/him-her-duo-at-kfan-radiothon-supporting-new-horizons/
DTSTART;TZID=GMT:20240915T020000
SUMMARY:Him & Her Duo at KFAN-FM Radiothon supporting New Horizons
DESCRIPTION:Please join Him & Her and other great musical acts all day in support of a treasured cause in Fredericksburg: New Horizons. Details to follow. Dial in KFAN Texas Rebel Radio to enjoy and support.
LOCATION:KNAF/KFAN\, 304 E SAN ANTONIO ST\,\, Fredericksburg\, TX\, United States\, 78624
END:VEVENT
END:VCALENDAR
