BEGIN:VCALENDAR
VERSION:2.0
PRODID:-//AudioTheme 3.0.2
BEGIN:VEVENT
UID:urn:uuid:504c9817-d9c5-4e5c-af40-6ba7f8377b5b
URL:https://www.himandhertx.com/shows/him-her-duo-at-songwriter-night-at-stinsons-university-park/
DTSTART;TZID=GMT:20170330T000000
SUMMARY:Him & Her duo at Songwriter Night at Stinson's University Park
LOCATION:Stinson's - University Park\, 3300 N IH 35\, Ste 140\, Austin\, Texas\, 78705
END:VEVENT
END:VCALENDAR
