BEGIN:VCALENDAR
VERSION:2.0
PRODID:-//AudioTheme 3.0.2
BEGIN:VEVENT
UID:urn:uuid:f73e9d9b-100d-44fc-900a-10b5327ea9df
URL:https://www.himandhertx.com/shows/him-her-duo-help-celebrate-the-festival-de-los-ninos-tumc-san-antonio/
DTSTART;TZID=GMT:20170408T000000
SUMMARY:Him & Her duo help celebrate the Festival de los Ninos, TUMC San Antonio
LOCATION:Trinity United Methodist Church San Antonio\, TX\, 6800 Wurzbach Rd\, San Antonio\, Texas\, 78240
END:VEVENT
END:VCALENDAR
