BEGIN:VCALENDAR
VERSION:2.0
PRODID:-//AudioTheme 3.0.2
BEGIN:VEVENT
UID:urn:uuid:3249d5ed-9629-4e28-8d49-2404764b833d
URL:https://www.himandhertx.com/shows/him-her-fredericksburg-glass-blowing-grand-opening-party/
DTSTART;TZID=GMT:20230324T220000
SUMMARY:Him & Her Band - Enchanted Fredericksburg Ranch - Grand Opening
DESCRIPTION:Him & Her are pleased to play for the Grand Opening of this amazing new art facility - Enchanted Fredericksburg Ranch - North of Fredericksburg. Please come and join us!
LOCATION:Enchanted Fredericksburg Glassblowing\, 7991 Ranch Road 965\, Fredericksburg\, TX\, United States\, 78625
END:VEVENT
END:VCALENDAR
