BEGIN:VCALENDAR
VERSION:2.0
PRODID:-//AudioTheme 3.0.2
BEGIN:VEVENT
UID:urn:uuid:fcc8b9f2-38f2-429d-a289-69c698ad8028
URL:https://www.himandhertx.com/shows/him-her-harmonica-workshop-at-texas-heritage-music-day/
DTSTART;TZID=GMT:20210917T140000
SUMMARY:Him & Her harmonica workshop at Texas Heritage Music Day
DESCRIPTION:Him & Her return to Schreiner University in Kerrville to teach youth how to play a tune on a harmonica.  Hohner Blues Band harmonica will be given to every young person who participates.
LOCATION:Schreiner University\, 2100 Memorial Blvd\, Kerrville\, Texas\, USA\, 78028
END:VEVENT
END:VCALENDAR
