BEGIN:VCALENDAR
VERSION:2.0
PRODID:-//AudioTheme 3.0.2
BEGIN:VEVENT
UID:urn:uuid:6a1821ef-172d-418c-be78-a4f060b5136a
URL:https://www.himandhertx.com/shows/him-her-help-you-celebrate-thanksgiving-in-fredericksburg/
DTSTART;TZID=GMT:20251122T003000
SUMMARY:Him & Her help you celebrate Thanksgiving in Fredericksburg - cancelled
DESCRIPTION:Him & Her celebrate the lead-in to Thanksgiving week with a concert at their favorite Fredericksburg venue - please join us!
LOCATION:The CLUB at Baron's CreekSide\, The CLUB at Barons CreekSide\, 316 Goehmann Ln\, Fredericksburg\, Texas\, USA\, 78624
END:VEVENT
END:VCALENDAR
