BEGIN:VCALENDAR
VERSION:2.0
PRODID:-//AudioTheme 3.0.2
BEGIN:VEVENT
UID:urn:uuid:dc419c52-6766-47d6-8987-8edd9a28fde5
URL:https://www.himandhertx.com/shows/him-her-host-luckenbach-pickers-circle-july-august/
DTSTART;TZID=GMT:20170808T000000
SUMMARY:Him & Her host Luckenbach Picker's Circle July-August
LOCATION:Luckenbach\, Luckenbach\, Texas\, USA
END:VEVENT
END:VCALENDAR
