BEGIN:VCALENDAR
VERSION:2.0
PRODID:-//AudioTheme 3.0.2
BEGIN:VEVENT
UID:urn:uuid:59403b24-a9f9-4892-af2c-08db160d3b08
URL:https://www.himandhertx.com/shows/him-her-house-concert-in-tampa-bay-fl/
DTSTART;TZID=GMT:20200209T200000
SUMMARY:Him & Her House Concert in Tampa Bay FL
DESCRIPTION:Him & Her are pleased to perform a House Concert in Tampa Bay. If you are interested\, please contact us.
LOCATION:Private Venue\, Fredericksburg\, TX\, United States
END:VEVENT
END:VCALENDAR
