BEGIN:VCALENDAR
VERSION:2.0
PRODID:-//AudioTheme 3.0.2
BEGIN:VEVENT
UID:urn:uuid:da987f73-f6b0-4198-9998-2912a3b14793
URL:https://www.himandhertx.com/shows/him-her-hye-thai-anniversary-celebration/
DTSTART;TZID=GMT:20230729T220000
SUMMARY:Him & Her - Hye Thai Anniversary celebration
DESCRIPTION:Him & Her are pleased to join John and the team at Hye Thai to celebrate their 4th Anniversary.  Please come by and enjoy some great Thai food\, right here in Stonewall!  
LOCATION:Hye Thai\, 52 RR 1623 South\, Stonewall\, TX\, United States\, 78671
END:VEVENT
END:VCALENDAR
