BEGIN:VCALENDAR
VERSION:2.0
PRODID:-//AudioTheme 3.0.2
BEGIN:VEVENT
UID:urn:uuid:29e5493e-e024-4c54-a149-df20fee9e504
URL:https://www.himandhertx.com/shows/him-her-in-fredericksburg/
DTSTART;TZID=GMT:20250613T120000
SUMMARY:Him & Her in Fredericksburg
DESCRIPTION:Come and enjoy this mid-summer evening with the Him & Her Trio
LOCATION:The CLUB at Baron's CreekSide\, The CLUB at Barons CreekSide\, 316 Goehmann Ln\, Fredericksburg\, Texas\, USA\, 78624
END:VEVENT
END:VCALENDAR
