BEGIN:VCALENDAR
VERSION:2.0
PRODID:-//AudioTheme 3.0.2
BEGIN:VEVENT
UID:urn:uuid:f6eeacdb-47ed-4b27-9266-6d475a854022
URL:https://www.himandhertx.com/shows/him-her-join-jan-seides-songwriters-circle-at-kick-butt-coffee-austin-tx/
DTSTART;TZID=GMT:20170305T000000
SUMMARY:Him & Her join Jan Seides Songwriter's Circle at Kick Butt Coffee, Austin TX
LOCATION:Kick Butt Coffee\, 5775 Airport Blvd\, Austin\, Texas\, 78752
END:VEVENT
END:VCALENDAR
